BEGIN:VCALENDAR
VERSION:2.0
PRODID:-//Raedwulf - Pub und Shop - ECPv6.9.0//NONSGML v1.0//EN
CALSCALE:GREGORIAN
METHOD:PUBLISH
X-ORIGINAL-URL:https://raedwulf.ch
X-WR-CALDESC:Veranstaltungen für Raedwulf - Pub und Shop
REFRESH-INTERVAL;VALUE=DURATION:PT1H
X-Robots-Tag:noindex
X-PUBLISHED-TTL:PT1H
BEGIN:VTIMEZONE
TZID:Europe/Zurich
BEGIN:DAYLIGHT
TZOFFSETFROM:+0100
TZOFFSETTO:+0200
TZNAME:CEST
DTSTART:20230326T010000
END:DAYLIGHT
BEGIN:STANDARD
TZOFFSETFROM:+0200
TZOFFSETTO:+0100
TZNAME:CET
DTSTART:20231029T010000
END:STANDARD
END:VTIMEZONE
BEGIN:VEVENT
DTSTART;TZID=Europe/Zurich:20230603T190000
DTEND;TZID=Europe/Zurich:20230603T220000
DTSTAMP:20260421T100822
CREATED:20230427T123139Z
LAST-MODIFIED:20230427T124237Z
UID:10000035-1685818800-1685829600@raedwulf.ch
SUMMARY:Livemusik: Colin Ramage
DESCRIPTION:Erlebe einen tollen Abend im Pub mit schottischer Livemusik!\nWir erweitern unser Essens-Angebot damit du den ganzen Abend bei uns bleiben kannst… Das Pub ist ab 17:00 Uhr geöffnet.\nEintritt frei\, ein Beitrag in die Kollekte ist willkommen.\nDie Tischreservation ist möglich aber nicht erforderlich. \n 
URL:https://raedwulf.ch/event/livemusik-colin-ramage-2/
ATTACH;FMTTYPE=image/jpeg:https://raedwulf.ch/wp-content/uploads/2023/04/proxy-image2.jpeg
END:VEVENT
BEGIN:VEVENT
DTSTART;TZID=Europe/Zurich:20230609T190000
DTEND;TZID=Europe/Zurich:20230609T230000
DTSTAMP:20260421T100822
CREATED:20230601T093251Z
LAST-MODIFIED:20230601T154949Z
UID:10000036-1686337200-1686351600@raedwulf.ch
SUMMARY:Livemusik: Manu Bissig
DESCRIPTION:Erlebe einen tollen Abend im Pub mit musikalischer Begleitung von Manu Bissig. Der Sänger und Gitarrist spielt peppigen Blues-Rock-Pop und sorgt für gute Stimmung.\nBeginn ca. 21:00 Uhr\, das Pub ist ab 17:00 Uhr geöffnet.\nEintritt frei\, ein Beitrag in die Kollekte ist willkommen.
URL:https://raedwulf.ch/event/livemusik-manu-bissig/
LOCATION:Raedwulf Pub\, Burgerstrasse 22\, Luzern\, 6003\, Schweiz
ATTACH;FMTTYPE=image/jpeg:https://raedwulf.ch/wp-content/uploads/2023/06/WhatsApp-Bild-2023-05-30-um-21.42.03.jpg
END:VEVENT
BEGIN:VEVENT
DTSTART;TZID=Europe/Zurich:20230617T200000
DTEND;TZID=Europe/Zurich:20230617T220000
DTSTAMP:20260421T100822
CREATED:20230320T200544Z
LAST-MODIFIED:20230320T200544Z
UID:10000031-1687032000-1687039200@raedwulf.ch
SUMMARY:Live in Concert: Leprechaun's Pleasure
DESCRIPTION:Leprechaun’s Pleasure ist eine Irish – Folk – Band welche sich vorwiegend dem traditionellen Folk-Song aus Irland und auch aus Schottland\, widmet.\nErstmals spielt diese Band live im Raedwulf Pub. Der Eintritt ist frei\, ein Beitrag in die Kollekte ist erwünscht.\nDas Pub bleibt während dem Konzert normal geöffnet.\nLink zu der Website der Band
URL:https://raedwulf.ch/event/live-in-concert-leprechauns-pleasure/
ATTACH;FMTTYPE=image/webp:https://raedwulf.ch/wp-content/uploads/2023/03/LogoHintergrundlos.webp
END:VEVENT
BEGIN:VEVENT
DTSTART;TZID=Europe/Zurich:20230623T190000
DTEND;TZID=Europe/Zurich:20230623T233000
DTSTAMP:20260421T100822
CREATED:20230601T094305Z
LAST-MODIFIED:20230601T094417Z
UID:10000037-1687546800-1687563000@raedwulf.ch
SUMMARY:80er-Jahre Disco mit DJ Tonpirat
DESCRIPTION:Lass dich in die Discozeit der 80er versetzten.\nDer DJ Tonpirat legt die grössten Hits auf\, es darf getanzt werden.\nAusreichend Bier\, Popcorn und Currywurst stehen bereit…\nDie originellsten Outfits honorieren wir mit einem Getränkegutschein!
URL:https://raedwulf.ch/event/80er-jahre-disco-mit-dj-tonpirat/
ATTACH;FMTTYPE=image/jpeg:https://raedwulf.ch/wp-content/uploads/2023/06/djTonpirat.jpeg
END:VEVENT
END:VCALENDAR