BEGIN:VCALENDAR
VERSION:2.0
PRODID:-//Raedwulf - Pub und Shop - ECPv6.9.0//NONSGML v1.0//EN
CALSCALE:GREGORIAN
METHOD:PUBLISH
X-WR-CALNAME:Raedwulf - Pub und Shop
X-ORIGINAL-URL:https://raedwulf.ch
X-WR-CALDESC:Veranstaltungen für Raedwulf - Pub und Shop
REFRESH-INTERVAL;VALUE=DURATION:PT1H
X-Robots-Tag:noindex
X-PUBLISHED-TTL:PT1H
BEGIN:VTIMEZONE
TZID:Europe/Zurich
BEGIN:DAYLIGHT
TZOFFSETFROM:+0100
TZOFFSETTO:+0200
TZNAME:CEST
DTSTART:20220327T010000
END:DAYLIGHT
BEGIN:STANDARD
TZOFFSETFROM:+0200
TZOFFSETTO:+0100
TZNAME:CET
DTSTART:20221030T010000
END:STANDARD
END:VTIMEZONE
BEGIN:VEVENT
DTSTART;TZID=Europe/Zurich:20220423T180000
DTEND;TZID=Europe/Zurich:20220423T230000
DTSTAMP:20260422T040240
CREATED:20220407T204914Z
LAST-MODIFIED:20220407T205310Z
UID:10000023-1650736800-1650754800@raedwulf.ch
SUMMARY:Whiskytasting mit Dinner - Unabhängige Abfüller
DESCRIPTION:Hier werden wieder einige Neuzugänge im Shop und interessante Raritäten vorgestellt.\nDieses Whiskytasting ist für erfahrene Geniesser empfohlen\, weil die meisten Raritäten fassstark abgefüllt wurden. Zwischen den Whiskies gibt es immer etwas zum Essen in kleinen Häppchen. Die meisten Samples können im Shop erworben werden.\nDie Kosten betragen Fr. 20.- für die Clubmitgliedschaft plus Fr. 60.- für die Veranstaltung. Bitte die Mitgliedschaft separat buchen. Bereits bestehende Clubmitgliedschaften sind 1 Jahr gültig und natürlich anwendbar.
URL:https://raedwulf.ch/event/whiskytasting-mit-dinner-unabhaengige-abfueller/
LOCATION:Raedwulf.shop\, Buggenacher 27b\, Adligenswil\, Luzern\, 6043\, Schweiz
ATTACH;FMTTYPE=image/jpeg:https://raedwulf.ch/wp-content/uploads/2022/04/IMG_20190820_141246-scaled.jpg
END:VEVENT
END:VCALENDAR