BEGIN:VCALENDAR
VERSION:2.0
PRODID:-//Raedwulf - Pub und Shop - ECPv6.9.0//NONSGML v1.0//EN
CALSCALE:GREGORIAN
METHOD:PUBLISH
X-ORIGINAL-URL:https://raedwulf.ch
X-WR-CALDESC:Veranstaltungen für Raedwulf - Pub und Shop
REFRESH-INTERVAL;VALUE=DURATION:PT1H
X-Robots-Tag:noindex
X-PUBLISHED-TTL:PT1H
BEGIN:VTIMEZONE
TZID:Europe/Zurich
BEGIN:DAYLIGHT
TZOFFSETFROM:+0100
TZOFFSETTO:+0200
TZNAME:CEST
DTSTART:20220327T010000
END:DAYLIGHT
BEGIN:STANDARD
TZOFFSETFROM:+0200
TZOFFSETTO:+0100
TZNAME:CET
DTSTART:20221030T010000
END:STANDARD
END:VTIMEZONE
BEGIN:VEVENT
DTSTART;TZID=Europe/Zurich:20220319T180000
DTEND;TZID=Europe/Zurich:20220319T230000
DTSTAMP:20260422T052545
CREATED:20220203T222715Z
LAST-MODIFIED:20220309T202221Z
UID:10000026-1647712800-1647730800@raedwulf.ch
SUMMARY:Whiskydinner - Single Malt 40 - 70% Vol
DESCRIPTION:Dieses Tasting ist auch für weniger erfahrene Whiskygeniesser ausgelegt. Nebst den Unterschieden verschiedener Fass-Ausreifungen werden die Unterschiede von 40% Vol bis fassstark thematisiert. Eine spannende Reise durch die Vielfalten des Single Malt beginnt…\nNach jedem Whisky gibt es ein häppchen zu Essen\, kulinarisch an den Whisky und Schottland angelehnt. Das 5-Gang-Menü ist im Preis inbegriffen.\nDie Veranstaltung in privater Lokalität bedingt eine Clubmitgliedschaft\nDie Kosten betragen Fr. 20.- für die Clubmitgliedschaft plus Fr. 60.- für die Veranstaltung. Bitte die Mitgliedschaft separat buchen\, diese ist ein Jahr gültig.
URL:https://raedwulf.ch/event/whiskydinner-single-malt-40-70-vol/
LOCATION:Raedwulf.shop\, Buggenacher 27b\, Adligenswil\, Luzern\, 6043\, Schweiz
ATTACH;FMTTYPE=image/jpeg:https://raedwulf.ch/wp-content/uploads/2022/02/IMG_20170909_111656-scaled.jpg
ORGANIZER;CN="Ralf Meyer":MAILTO:ralf@raedwulf.ch
END:VEVENT
BEGIN:VEVENT
DTSTART;TZID=Europe/Zurich:20220324T170000
DTEND;TZID=Europe/Zurich:20220326T230000
DTSTAMP:20260422T052545
CREATED:20220320T124300Z
LAST-MODIFIED:20220320T124519Z
UID:10000024-1648141200-1648335600@raedwulf.ch
SUMMARY:Whiskyschiff Luzern
DESCRIPTION:Als Aussteller bin ich nicht am Whiskyschiff vertreten aber als Helfer und Bandmitglied der ‚Pipes and Drums of the Lucerne Caledonians‘ und immer für ein Gespräch zu haben.\nAlle Infos findest du auf der Website des Whiskyschiffs
URL:https://raedwulf.ch/event/whiskyschiff-luzern/
ATTACH;FMTTYPE=image/jpeg:https://raedwulf.ch/wp-content/uploads/2022/03/20180310_Gruppenfoto_LUca-scaled.jpg
END:VEVENT
END:VCALENDAR