BEGIN:VCALENDAR
VERSION:2.0
PRODID:-//Raedwulf - Pub und Shop - ECPv6.9.0//NONSGML v1.0//EN
CALSCALE:GREGORIAN
METHOD:PUBLISH
X-WR-CALNAME:Raedwulf - Pub und Shop
X-ORIGINAL-URL:https://raedwulf.ch
X-WR-CALDESC:Veranstaltungen für Raedwulf - Pub und Shop
REFRESH-INTERVAL;VALUE=DURATION:PT1H
X-Robots-Tag:noindex
X-PUBLISHED-TTL:PT1H
BEGIN:VTIMEZONE
TZID:Europe/Zurich
BEGIN:DAYLIGHT
TZOFFSETFROM:+0100
TZOFFSETTO:+0200
TZNAME:CEST
DTSTART:20260329T010000
END:DAYLIGHT
BEGIN:STANDARD
TZOFFSETFROM:+0200
TZOFFSETTO:+0100
TZNAME:CET
DTSTART:20261025T010000
END:STANDARD
END:VTIMEZONE
BEGIN:VEVENT
DTSTART;TZID=Europe/Zurich:20260703T203000
DTEND;TZID=Europe/Zurich:20260703T230000
DTSTAMP:20260421T123750
CREATED:20260203T164729Z
LAST-MODIFIED:20260203T165029Z
UID:10000316-1783110600-1783119600@raedwulf.ch
SUMMARY:Live: Mad Noise - Abschlussparty Tag 1
DESCRIPTION:Wir feiern unseren Abschluss in Luzern mit einer zweitägigen Party! \nMAD NOISE ist eine Hardrock Cover Band aus dem Kanton Aargau. Gegründet wurde die Band 2020.\nDie ausgewählten Songs sind eher der schnelleren Gangart gewidmet. Sie reichen von 1970er Jahre Punk-Rock bis in die neuzeitliche Moderne.\nDas Repertoire wird regelmässig mit neuen Songs erweitert. \nUnser Motto: Den Leuten eine gute Zeit zu bescheren\, Spass zu haben und richtig abzurocken! \nDer Eintritt ist frei\, ein Beitrag in die Kollekte ist willkommen.\nDas Pub bleibt während dem Konzert normal geöffnet.
URL:https://raedwulf.ch/event/live-mad-noise-3/
ATTACH;FMTTYPE=image/jpeg:https://raedwulf.ch/wp-content/uploads/2024/03/MadNoise-006.jpg
END:VEVENT
END:VCALENDAR