BEGIN:VCALENDAR
VERSION:2.0
PRODID:-//Raedwulf - Pub und Shop - ECPv6.9.0//NONSGML v1.0//EN
CALSCALE:GREGORIAN
METHOD:PUBLISH
X-WR-CALNAME:Raedwulf - Pub und Shop
X-ORIGINAL-URL:https://raedwulf.ch
X-WR-CALDESC:Veranstaltungen für Raedwulf - Pub und Shop
REFRESH-INTERVAL;VALUE=DURATION:PT1H
X-Robots-Tag:noindex
X-PUBLISHED-TTL:PT1H
BEGIN:VTIMEZONE
TZID:Europe/Zurich
BEGIN:DAYLIGHT
TZOFFSETFROM:+0100
TZOFFSETTO:+0200
TZNAME:CEST
DTSTART:20260329T010000
END:DAYLIGHT
BEGIN:STANDARD
TZOFFSETFROM:+0200
TZOFFSETTO:+0100
TZNAME:CET
DTSTART:20261025T010000
END:STANDARD
END:VTIMEZONE
BEGIN:VEVENT
DTSTART;TZID=Europe/Zurich:20260627T203000
DTEND;TZID=Europe/Zurich:20260627T230000
DTSTAMP:20260421T123725
CREATED:20260127T164152Z
LAST-MODIFIED:20260127T164152Z
UID:10000300-1782592200-1782601200@raedwulf.ch
SUMMARY:Live: Kevin Daniel (Americana)
DESCRIPTION:Aufgewachsen in North Carolina\, ausgebildet in Brooklyn und wohnhaft in Nashville\, hat sich der Americana-Sänger Kevin Daniel zum Ziel gesetzt\, seinen Y’allternative-Rock-Stil in den amerikanischen Musikszene zu etablieren. Der Songwriter und Multiinstrumentalist bringt Southern Rock\, Gospel und Blues in die Bars des Südostens und darüber hinaus.  \nKevin Daniel wurde bereits von Festivals wie Mountain Jam\, SxSW\, Celebrate Fairfax und dem ListeningRoom Festival offiziell ausgewählt.  \nSein erstes Album „Things I Don’t See“ wurde 2014 in Brooklyn aufgenommen\, das zweite „Myself Through You“ erschien 2018. Nun hat er das Album „Been Here Before“ veröffentlicht\, das in den Echo Mountain Studios in Asheville\, North Carolina\, aufgenommen wurde\, sowie „The Life & Adventures of Kevin Daniel“\, das über Organic Records erschien.  \nAktuell arbeitet er mit dem Grammy-nominierten Produzenten Bobby Holland in den Pentaverit Studios in Nashville\, Tennessee\, an seinem nächsten Album. Er tourt weiterhin 100 bis 150 Tage im Jahr durch die USA\, Mexiko und Großbritannien. Nun macht er einen Abstecher zu uns nach Luzern. \nDer Eintritt ist frei\, ein Beitrag in die Kollekte ist willkommen.
URL:https://raedwulf.ch/event/live-kevin-daniel-americana/
ATTACH;FMTTYPE=image/jpeg:https://raedwulf.ch/wp-content/uploads/2026/01/5P3A2638-scaled.jpg
END:VEVENT
END:VCALENDAR