BEGIN:VCALENDAR
VERSION:2.0
PRODID:-//Raedwulf - Pub und Shop - ECPv6.9.0//NONSGML v1.0//EN
CALSCALE:GREGORIAN
METHOD:PUBLISH
X-ORIGINAL-URL:https://raedwulf.ch
X-WR-CALDESC:Veranstaltungen für Raedwulf - Pub und Shop
REFRESH-INTERVAL;VALUE=DURATION:PT1H
X-Robots-Tag:noindex
X-PUBLISHED-TTL:PT1H
BEGIN:VTIMEZONE
TZID:Europe/Zurich
BEGIN:DAYLIGHT
TZOFFSETFROM:+0100
TZOFFSETTO:+0200
TZNAME:CEST
DTSTART:20260329T010000
END:DAYLIGHT
BEGIN:STANDARD
TZOFFSETFROM:+0200
TZOFFSETTO:+0100
TZNAME:CET
DTSTART:20261025T010000
END:STANDARD
END:VTIMEZONE
BEGIN:VEVENT
DTSTART;TZID=Europe/Zurich:20260613T203000
DTEND;TZID=Europe/Zurich:20260613T223000
DTSTAMP:20260421T123928
CREATED:20251217T152839Z
LAST-MODIFIED:20251217T152839Z
UID:10000296-1781382600-1781389800@raedwulf.ch
SUMMARY:Live: north-Z
DESCRIPTION:Fünf Köpfe aus Zürich-Nord interpretieren Covers diverser Stile in ihrer bevorzugten Art\, transparent ganz nach north-Z. Soli über alle Instrumente und Rhythmen\, die nicht nur in die Ohren gehen! Von Bluesrock bis Balladen\, jeder Gast findet sich in Erinnerungen\, die auch Jahrzehnte zurückliegen können. \nMehr zur Band: https://north-z.ch/line-up/ \nDer Eintritt ist frei\, ein Beitrag in die Kollekte ist willkommen.\nDas Pub bleibt während dem Konzert normal geöffnet.
URL:https://raedwulf.ch/event/live-north-z/
ATTACH;FMTTYPE=image/jpeg:https://raedwulf.ch/wp-content/uploads/2025/12/north-Z.jpeg
END:VEVENT
END:VCALENDAR