BEGIN:VCALENDAR
VERSION:2.0
PRODID:-//Raedwulf - Pub und Shop - ECPv6.9.0//NONSGML v1.0//EN
CALSCALE:GREGORIAN
METHOD:PUBLISH
X-WR-CALNAME:Raedwulf - Pub und Shop
X-ORIGINAL-URL:https://raedwulf.ch
X-WR-CALDESC:Veranstaltungen für Raedwulf - Pub und Shop
REFRESH-INTERVAL;VALUE=DURATION:PT1H
X-Robots-Tag:noindex
X-PUBLISHED-TTL:PT1H
BEGIN:VTIMEZONE
TZID:Europe/Zurich
BEGIN:DAYLIGHT
TZOFFSETFROM:+0100
TZOFFSETTO:+0200
TZNAME:CEST
DTSTART:20260329T010000
END:DAYLIGHT
BEGIN:STANDARD
TZOFFSETFROM:+0200
TZOFFSETTO:+0100
TZNAME:CET
DTSTART:20261025T010000
END:STANDARD
END:VTIMEZONE
BEGIN:VEVENT
DTSTART;TZID=Europe/Zurich:20260611T203000
DTEND;TZID=Europe/Zurich:20260611T230000
DTSTAMP:20260421T123725
CREATED:20260128T154449Z
LAST-MODIFIED:20260128T154449Z
UID:10000302-1781209800-1781218800@raedwulf.ch
SUMMARY:Live:  Simon Kempston
DESCRIPTION:Der schottische Singer-Songwriter und führende Akustik-Fingerstyle-Gitarrist Simon Kempston tourte weltweit mit seinen originellen\, zeitgenössischen Akustik-Songs und seiner Musik. Sein einzigartiges Talent\, dessen wunderschön komponiertes Material sein unglaubliches\, unverwechselbares und komplexes Fingerstyle-Gitarrenspiel und seinen sanft nuancierten\, fesselnden Tenorstimme unterstreicht\, ist einzigartig. \nSimon ist ein inspirierender\, poetischer Texter\, dessen leidenschaftliche Live-Auftritte zeitloses Songwriting mit universeller Anziehungskraft präsentieren\, durchsetzt mit humorvollen\, weltoffenen Geschichten. Dieses erste Konzert in Luzern zur Unterstützung seines brandneuen\, von der Kritik gefeierten Albums ist ein absolutes Muss. „Einer der besten Singer-Songwriter Schottlands“ (Herald). „Umwerfendes Talent“ \nDer Eintritt ist frei\, ein Beitrag in die Kollekte ist willkommen.
URL:https://raedwulf.ch/event/live-simon-kempston-2/
LOCATION:Raedwulf Pub\, Burgerstrasse 22\, Luzern\, 6003\, Schweiz
ATTACH;FMTTYPE=image/jpeg:https://raedwulf.ch/wp-content/uploads/2025/04/20350-Simon-Kempston-Fringe-Poster-290722-scaled.jpg
END:VEVENT
END:VCALENDAR