BEGIN:VCALENDAR
VERSION:2.0
PRODID:-//Raedwulf - Pub und Shop - ECPv6.9.0//NONSGML v1.0//EN
CALSCALE:GREGORIAN
METHOD:PUBLISH
X-WR-CALNAME:Raedwulf - Pub und Shop
X-ORIGINAL-URL:https://raedwulf.ch
X-WR-CALDESC:Veranstaltungen für Raedwulf - Pub und Shop
REFRESH-INTERVAL;VALUE=DURATION:PT1H
X-Robots-Tag:noindex
X-PUBLISHED-TTL:PT1H
BEGIN:VTIMEZONE
TZID:Europe/Zurich
BEGIN:DAYLIGHT
TZOFFSETFROM:+0100
TZOFFSETTO:+0200
TZNAME:CEST
DTSTART:20230326T010000
END:DAYLIGHT
BEGIN:STANDARD
TZOFFSETFROM:+0200
TZOFFSETTO:+0100
TZNAME:CET
DTSTART:20231029T010000
END:STANDARD
END:VTIMEZONE
BEGIN:VEVENT
DTSTART;TZID=Europe/Zurich:20230414T170000
DTEND;TZID=Europe/Zurich:20230415T003000
DTSTAMP:20260421T135612
CREATED:20230308T220750Z
LAST-MODIFIED:20230405T115801Z
UID:10000028-1681491600-1681518600@raedwulf.ch
SUMMARY:Biertasting Rainacker
DESCRIPTION:Eine Auswahl von Bierkreationen der Brauerei Rainacker aus Kriens haben wir ganz neu im Angebot.\nZum Kennenlernen haben wir einen Bierabend mit Tasting organisiert. Das Event kann mit 5-Gang-Menü gebucht werden (Reservation erforderlich) oder man degustiert einfach nur die Biere. Das Pub ist normal geöffnet\, eine Teilnahme am Tasting ist nicht obligatorisch.\nWebsite: https://www.rainackerbier.ch/\nDie Braumeister werden vor Ort sein uns aus erster Hand vieles von Ihrer Kunst berichten.\nDetails siehe hier im Flyer \nReservation/Buchung bitte durch Klicken auf „Ticket“. Die Bezahlung ist zum Voraus oder am Veranstaltungstag möglich.\nBei Fragen sind wir gerne per Kontaktformular oder E-Mail an ralf (at) raedwulf.ch erreichbar.
URL:https://raedwulf.ch/event/biertasting-rainacker/
ATTACH;FMTTYPE=image/jpeg:https://raedwulf.ch/wp-content/uploads/2023/03/20230308_20230308_230533-scaled.jpg
END:VEVENT
END:VCALENDAR