BEGIN:VCALENDAR
VERSION:2.0
PRODID:-//Raedwulf - Pub und Shop - ECPv6.9.0//NONSGML v1.0//EN
CALSCALE:GREGORIAN
METHOD:PUBLISH
X-WR-CALNAME:Raedwulf - Pub und Shop
X-ORIGINAL-URL:https://raedwulf.ch
X-WR-CALDESC:Veranstaltungen für Raedwulf - Pub und Shop
REFRESH-INTERVAL;VALUE=DURATION:PT1H
X-Robots-Tag:noindex
X-PUBLISHED-TTL:PT1H
BEGIN:VTIMEZONE
TZID:Europe/Zurich
BEGIN:DAYLIGHT
TZOFFSETFROM:+0100
TZOFFSETTO:+0200
TZNAME:CEST
DTSTART:20220327T010000
END:DAYLIGHT
BEGIN:STANDARD
TZOFFSETFROM:+0200
TZOFFSETTO:+0100
TZNAME:CET
DTSTART:20221030T010000
END:STANDARD
END:VTIMEZONE
BEGIN:VEVENT
DTSTART;TZID=Europe/Zurich:20220528T180000
DTEND;TZID=Europe/Zurich:20220528T220000
DTSTAMP:20260422T040147
CREATED:20220407T210352Z
LAST-MODIFIED:20220407T210352Z
UID:10000022-1653760800-1653775200@raedwulf.ch
SUMMARY:Whiskytasting und Dinner - Signatory
DESCRIPTION:Voraussichtlich erhalte ich im Mai neue Zugänge von dem unabhängigen Abfüller Signatory. Diese hier vorgestellten Whiskies waren zwischen 7 und 25 Jahre im Eichenfass gelagert.\nAlle Flaschen können ab Mai im Shop bestellt werden.\nDie Kosten betragen Fr. 20.- für die Clubmitgliedschaft plus Fr. 60.- für die Veranstaltung. Bitte die Mitgliedschaft separat buchen. Bereits bestehende Clubmitgliedschaften sind 1 Jahr gültig und natürlich anwendbar.
URL:https://raedwulf.ch/event/whiskytasting-und-dinner-signatory/
LOCATION:Raedwulf.shop\, Buggenacher 27b\, Adligenswil\, Luzern\, 6043\, Schweiz
ATTACH;FMTTYPE=image/jpeg:https://raedwulf.ch/wp-content/uploads/2022/04/IMG_20190820_145520-scaled.jpg
ORGANIZER;CN="Ralf Meyer":MAILTO:ralf@raedwulf.ch
END:VEVENT
END:VCALENDAR