BEGIN:VCALENDAR
VERSION:2.0
PRODID:-//Raedwulf - Pub und Shop - ECPv6.9.0//NONSGML v1.0//EN
CALSCALE:GREGORIAN
METHOD:PUBLISH
X-WR-CALNAME:Raedwulf - Pub und Shop
X-ORIGINAL-URL:https://raedwulf.ch
X-WR-CALDESC:Veranstaltungen für Raedwulf - Pub und Shop
REFRESH-INTERVAL;VALUE=DURATION:PT1H
X-Robots-Tag:noindex
X-PUBLISHED-TTL:PT1H
BEGIN:VTIMEZONE
TZID:Europe/Zurich
BEGIN:DAYLIGHT
TZOFFSETFROM:+0100
TZOFFSETTO:+0200
TZNAME:CEST
DTSTART:20220327T010000
END:DAYLIGHT
BEGIN:STANDARD
TZOFFSETFROM:+0200
TZOFFSETTO:+0100
TZNAME:CET
DTSTART:20221030T010000
END:STANDARD
END:VTIMEZONE
BEGIN:VEVENT
DTSTART;TZID=Europe/Zurich:20220212T180000
DTEND;TZID=Europe/Zurich:20220212T230000
DTSTAMP:20260422T080908
CREATED:20220103T201914Z
LAST-MODIFIED:20220203T215052Z
UID:10000027-1644688800-1644706800@raedwulf.ch
SUMMARY:Whiskytasting und Dinner - Basics
DESCRIPTION:(Verschobenes Datum vom 22.01.)\nDieses Whiskytasting ist für weniger erfahrene Geniesser gedacht. Es gibt eine kurze Einleitung mit Erklärungen zur Geschichte und Herstellung von schottischem Whisky. Wenn du mal alten Pedro Ximenez Sherry mit Whisky\, der im Sherry-Fass gereift wurde\, vergleichen möchtest\, dann ist dieses Tasting genau das Richtige für dich. Zwischen den Whiskies gibt es immer etwas zum Essen in kleinen Häppchen.\nDies ist eine private Veranstaltung für Clubmitglieder und deshalb ohne Covid-Zertifikat besuchbar.\nDie Kosten betragen Fr. 20.- für die Clubmitgliedschaft plus Fr. 60.- für die Veranstaltung. Bitte die Mitgliedschaft separat buchen. \n 
URL:https://raedwulf.ch/event/whiskytasting-basics/
LOCATION:Raedwulf.shop\, Buggenacher 27b\, Adligenswil\, Luzern\, 6043\, Schweiz
ATTACH;FMTTYPE=image/jpeg:https://raedwulf.ch/wp-content/uploads/2022/01/HappyWhiskytime22-scaled-e1641453701149.jpg
ORGANIZER;CN="Ralf Meyer":MAILTO:ralf@raedwulf.ch
END:VEVENT
END:VCALENDAR